BEGIN:VCALENDAR
VERSION:2.0
PRODID:-//Oxygeni Hair &amp; Skin oktatások - ECPv6.15.20//NONSGML v1.0//EN
CALSCALE:GREGORIAN
METHOD:PUBLISH
X-ORIGINAL-URL:https://training.oxygenihair.com
X-WR-CALDESC:Események Oxygeni Hair &amp; Skin oktatások
REFRESH-INTERVAL;VALUE=DURATION:PT1H
X-Robots-Tag:noindex
X-PUBLISHED-TTL:PT1H
BEGIN:VTIMEZONE
TZID:Europe/Budapest
BEGIN:DAYLIGHT
TZOFFSETFROM:+0100
TZOFFSETTO:+0200
TZNAME:CEST
DTSTART:20240331T010000
END:DAYLIGHT
BEGIN:STANDARD
TZOFFSETFROM:+0200
TZOFFSETTO:+0100
TZNAME:CET
DTSTART:20241027T010000
END:STANDARD
BEGIN:DAYLIGHT
TZOFFSETFROM:+0100
TZOFFSETTO:+0200
TZNAME:CEST
DTSTART:20250330T010000
END:DAYLIGHT
BEGIN:STANDARD
TZOFFSETFROM:+0200
TZOFFSETTO:+0100
TZNAME:CET
DTSTART:20251026T010000
END:STANDARD
BEGIN:DAYLIGHT
TZOFFSETFROM:+0100
TZOFFSETTO:+0200
TZNAME:CEST
DTSTART:20260329T010000
END:DAYLIGHT
BEGIN:STANDARD
TZOFFSETFROM:+0200
TZOFFSETTO:+0100
TZNAME:CET
DTSTART:20261025T010000
END:STANDARD
BEGIN:DAYLIGHT
TZOFFSETFROM:+0100
TZOFFSETTO:+0200
TZNAME:CEST
DTSTART:20270328T010000
END:DAYLIGHT
BEGIN:STANDARD
TZOFFSETFROM:+0200
TZOFFSETTO:+0100
TZNAME:CET
DTSTART:20271031T010000
END:STANDARD
END:VTIMEZONE
BEGIN:VEVENT
DTSTART;VALUE=DATE:20250715
DTEND;VALUE=DATE:20250716
DTSTAMP:20260423T005603
CREATED:20250520T074410Z
LAST-MODIFIED:20250520T074410Z
UID:11240-1752537600-1752623999@training.oxygenihair.com
SUMMARY:Hajgyógyászati nyílt nap
DESCRIPTION:
URL:https://training.oxygenihair.com/idopontok/hajgyogyaszati-nyilt-nap-14/
END:VEVENT
BEGIN:VEVENT
DTSTART;VALUE=DATE:20250716
DTEND;VALUE=DATE:20250717
DTSTAMP:20260423T005603
CREATED:20250520T074641Z
LAST-MODIFIED:20250520T074641Z
UID:11242-1752624000-1752710399@training.oxygenihair.com
SUMMARY:Kozmetikai nyílt nap
DESCRIPTION:
URL:https://training.oxygenihair.com/idopontok/kozmetikai-nyilt-nap-13/
END:VEVENT
BEGIN:VEVENT
DTSTART;TZID=Europe/Budapest:20250721T083000
DTEND;TZID=Europe/Budapest:20250721T130000
DTSTAMP:20260423T005603
CREATED:20250717T092636Z
LAST-MODIFIED:20250717T092636Z
UID:11418-1753086600-1753102800@training.oxygenihair.com
SUMMARY:Head Spa Rituals oktatás
DESCRIPTION:Időpont: 2025. július 21. (hétfő) 8:30 – 13:00\nHelyszín: 2040 Budaörs\, Felsőhatár utca 1. (Szabó Imre Hair & Beauty Budaörs)
URL:https://training.oxygenihair.com/idopontok/head-spa-rituals-oktatas-7/
LOCATION:Szabó Imre Hair & Beauty Budaörs\, Felsőhatár utca 1\, Budaörs\, 2040\, Hungary
CATEGORIES:Head Spa továbbképzés
END:VEVENT
BEGIN:VEVENT
DTSTART;VALUE=DATE:20250723
DTEND;VALUE=DATE:20250724
DTSTAMP:20260423T005603
CREATED:20250520T074733Z
LAST-MODIFIED:20250520T074733Z
UID:11245-1753228800-1753315199@training.oxygenihair.com
SUMMARY:Klasszikus fejmosós head spa és Head spa rituals nyílt nap
DESCRIPTION:
URL:https://training.oxygenihair.com/idopontok/klasszikus-fejmosos-head-spa-es-head-spa-rituals-nyilt-nap-6/
END:VEVENT
BEGIN:VEVENT
DTSTART;VALUE=DATE:20250813
DTEND;VALUE=DATE:20250814
DTSTAMP:20260423T005603
CREATED:20250520T074856Z
LAST-MODIFIED:20250520T074856Z
UID:11249-1755043200-1755129599@training.oxygenihair.com
SUMMARY:Kozmetikai nyílt nap
DESCRIPTION:
URL:https://training.oxygenihair.com/idopontok/kozmetikai-nyilt-nap-14/
END:VEVENT
BEGIN:VEVENT
DTSTART;VALUE=DATE:20250814
DTEND;VALUE=DATE:20250815
DTSTAMP:20260423T005603
CREATED:20250520T074817Z
LAST-MODIFIED:20250520T074817Z
UID:11247-1755129600-1755215999@training.oxygenihair.com
SUMMARY:Hajgyógyászati nyílt nap
DESCRIPTION:
URL:https://training.oxygenihair.com/idopontok/hajgyogyaszati-nyilt-nap-15/
END:VEVENT
BEGIN:VEVENT
DTSTART;VALUE=DATE:20250819
DTEND;VALUE=DATE:20250820
DTSTAMP:20260423T005603
CREATED:20250520T074925Z
LAST-MODIFIED:20250521T080416Z
UID:11251-1755561600-1755647999@training.oxygenihair.com
SUMMARY:Klasszikus fejmosós head spa és Head spa rituals nyílt nap
DESCRIPTION:
URL:https://training.oxygenihair.com/idopontok/klasszikus-fejmosos-head-spa-es-head-spa-rituals-nyilt-nap-7/
CATEGORIES:Nyílt napok
END:VEVENT
BEGIN:VEVENT
DTSTART;VALUE=DATE:20250911
DTEND;VALUE=DATE:20250912
DTSTAMP:20260423T005603
CREATED:20250520T075005Z
LAST-MODIFIED:20250521T080348Z
UID:11253-1757548800-1757635199@training.oxygenihair.com
SUMMARY:Hajgyógyászati nyílt nap
DESCRIPTION:
URL:https://training.oxygenihair.com/idopontok/hajgyogyaszati-nyilt-nap-16/
CATEGORIES:Nyílt napok
END:VEVENT
BEGIN:VEVENT
DTSTART;VALUE=DATE:20250917
DTEND;VALUE=DATE:20250918
DTSTAMP:20260423T005603
CREATED:20250520T075116Z
LAST-MODIFIED:20250521T075803Z
UID:11255-1758067200-1758153599@training.oxygenihair.com
SUMMARY:Kozmetikai nyílt nap
DESCRIPTION:
URL:https://training.oxygenihair.com/idopontok/kozmetikai-nyilt-nap-15/
CATEGORIES:Nyílt napok
END:VEVENT
BEGIN:VEVENT
DTSTART;VALUE=DATE:20250918
DTEND;VALUE=DATE:20250919
DTSTAMP:20260423T005603
CREATED:20250520T075151Z
LAST-MODIFIED:20250520T083636Z
UID:11257-1758153600-1758239999@training.oxygenihair.com
SUMMARY:Klasszikus fejmosós head spa és Head spa rituals nyílt nap
DESCRIPTION:
URL:https://training.oxygenihair.com/idopontok/klasszikus-fejmosos-head-spa-es-head-spa-rituals-nyilt-nap-8/
CATEGORIES:Nyílt napok
END:VEVENT
BEGIN:VEVENT
DTSTART;VALUE=DATE:20250929
DTEND;VALUE=DATE:20250930
DTSTAMP:20260423T005603
CREATED:20250808T102051Z
LAST-MODIFIED:20250808T102051Z
UID:11471-1759104000-1759190399@training.oxygenihair.com
SUMMARY:Hajgyógyászati alap oktatás
DESCRIPTION:
URL:https://training.oxygenihair.com/idopontok/hajgyogyaszati-alap-oktatas-5/
CATEGORIES:Hajgyógyászati oktatás
END:VEVENT
BEGIN:VEVENT
DTSTART;VALUE=DATE:20250929
DTEND;VALUE=DATE:20250930
DTSTAMP:20260423T005603
CREATED:20250808T102117Z
LAST-MODIFIED:20250808T102117Z
UID:11473-1759104000-1759190399@training.oxygenihair.com
SUMMARY:Klasszikus fejmosós Head Spa oktatás
DESCRIPTION:
URL:https://training.oxygenihair.com/idopontok/klasszikus-fejmosos-head-spa-oktatas/
CATEGORIES:Head Spa továbbképzés
END:VEVENT
BEGIN:VEVENT
DTSTART;VALUE=DATE:20251014
DTEND;VALUE=DATE:20251015
DTSTAMP:20260423T005603
CREATED:20250520T075233Z
LAST-MODIFIED:20250521T075731Z
UID:11259-1760400000-1760486399@training.oxygenihair.com
SUMMARY:Hajgyógyászati nyílt nap
DESCRIPTION:
URL:https://training.oxygenihair.com/idopontok/hajgyogyaszati-nyilt-nap-17/
CATEGORIES:Nyílt napok
END:VEVENT
BEGIN:VEVENT
DTSTART;VALUE=DATE:20251015
DTEND;VALUE=DATE:20251016
DTSTAMP:20260423T005603
CREATED:20250520T075317Z
LAST-MODIFIED:20250521T075649Z
UID:11261-1760486400-1760572799@training.oxygenihair.com
SUMMARY:Kozmetikai nyílt nap
DESCRIPTION:
URL:https://training.oxygenihair.com/idopontok/kozmetikai-nyilt-nap-16/
CATEGORIES:Nyílt napok
END:VEVENT
BEGIN:VEVENT
DTSTART;VALUE=DATE:20251022
DTEND;VALUE=DATE:20251023
DTSTAMP:20260423T005603
CREATED:20250520T075400Z
LAST-MODIFIED:20250521T075615Z
UID:11264-1761091200-1761177599@training.oxygenihair.com
SUMMARY:Klasszikus fejmosós head spa és Head spa rituals nyílt nap
DESCRIPTION:
URL:https://training.oxygenihair.com/idopontok/klasszikus-fejmosos-head-spa-es-head-spa-rituals-nyilt-nap-9/
CATEGORIES:Nyílt napok
END:VEVENT
BEGIN:VEVENT
DTSTART;VALUE=DATE:20251112
DTEND;VALUE=DATE:20251113
DTSTAMP:20260423T005603
CREATED:20250520T075439Z
LAST-MODIFIED:20250521T075532Z
UID:11266-1762905600-1762991999@training.oxygenihair.com
SUMMARY:Hajgyógyászati nyílt nap
DESCRIPTION:
URL:https://training.oxygenihair.com/idopontok/hajgyogyaszati-nyilt-nap-18/
CATEGORIES:Nyílt napok
END:VEVENT
BEGIN:VEVENT
DTSTART;VALUE=DATE:20251119
DTEND;VALUE=DATE:20251120
DTSTAMP:20260423T005603
CREATED:20250520T075528Z
LAST-MODIFIED:20250521T075154Z
UID:11268-1763510400-1763596799@training.oxygenihair.com
SUMMARY:Kozmetikai nyílt nap
DESCRIPTION:
URL:https://training.oxygenihair.com/idopontok/kozmetikai-nyilt-nap-17/
CATEGORIES:Nyílt napok
END:VEVENT
BEGIN:VEVENT
DTSTART;VALUE=DATE:20251120
DTEND;VALUE=DATE:20251121
DTSTAMP:20260423T005603
CREATED:20250520T075559Z
LAST-MODIFIED:20250521T075103Z
UID:11270-1763596800-1763683199@training.oxygenihair.com
SUMMARY:Klasszikus fejmosós head spa és Head spa rituals nyílt nap
DESCRIPTION:
URL:https://training.oxygenihair.com/idopontok/klasszikus-fejmosos-head-spa-es-head-spa-rituals-nyilt-nap-10/
CATEGORIES:Nyílt napok
END:VEVENT
BEGIN:VEVENT
DTSTART;VALUE=DATE:20251211
DTEND;VALUE=DATE:20251212
DTSTAMP:20260423T005603
CREATED:20250520T075633Z
LAST-MODIFIED:20250521T075017Z
UID:11272-1765411200-1765497599@training.oxygenihair.com
SUMMARY:Hajgyógyászati nyílt nap
DESCRIPTION:
URL:https://training.oxygenihair.com/idopontok/hajgyogyaszati-nyilt-nap-19/
CATEGORIES:Nyílt napok
END:VEVENT
BEGIN:VEVENT
DTSTART;VALUE=DATE:20251217
DTEND;VALUE=DATE:20251218
DTSTAMP:20260423T005603
CREATED:20250520T075713Z
LAST-MODIFIED:20250521T074941Z
UID:11274-1765929600-1766015999@training.oxygenihair.com
SUMMARY:Kozmetikai nyílt nap
DESCRIPTION:
URL:https://training.oxygenihair.com/idopontok/kozmetikai-nyilt-nap-18/
CATEGORIES:Nyílt napok
END:VEVENT
BEGIN:VEVENT
DTSTART;VALUE=DATE:20251218
DTEND;VALUE=DATE:20251219
DTSTAMP:20260423T005603
CREATED:20250520T075821Z
LAST-MODIFIED:20250521T074913Z
UID:11276-1766016000-1766102399@training.oxygenihair.com
SUMMARY:Klasszikus fejmosós head spa és Head spa rituals nyílt nap
DESCRIPTION:
URL:https://training.oxygenihair.com/idopontok/klasszikus-fejmosos-head-spa-es-head-spa-rituals-nyilt-nap-11/
CATEGORIES:Nyílt napok
END:VEVENT
BEGIN:VEVENT
DTSTART;TZID=Europe/Budapest:20260302T083000
DTEND;TZID=Europe/Budapest:20260302T133000
DTSTAMP:20260423T005603
CREATED:20260109T144103Z
LAST-MODIFIED:20260121T130706Z
UID:11873-1772440200-1772458200@training.oxygenihair.com
SUMMARY:Hajgyógyászati oktatás
DESCRIPTION:
URL:https://training.oxygenihair.com/idopontok/hajgyogyaszati-oktatas/
LOCATION:Oxygeni Nail Spa by Szabó Imre Budaörs\, Szabadság út 35\, Budaörs\, 2040\, Hungary
CATEGORIES:Hajgyógyászati oktatás
END:VEVENT
BEGIN:VEVENT
DTSTART;VALUE=DATE:20260212
DTEND;VALUE=DATE:20260213
DTSTAMP:20260423T005603
CREATED:20260121T131555Z
LAST-MODIFIED:20260121T131555Z
UID:11909-1770854400-1770940799@training.oxygenihair.com
SUMMARY:Hajgyógyászati nyílt nap
DESCRIPTION:
URL:https://training.oxygenihair.com/idopontok/hajgyogyaszati-nyilt-nap-20/
CATEGORIES:Nyílt napok
END:VEVENT
BEGIN:VEVENT
DTSTART;TZID=Europe/Budapest:20260226T083000
DTEND;TZID=Europe/Budapest:20260226T133000
DTSTAMP:20260423T005603
CREATED:20260109T144140Z
LAST-MODIFIED:20260109T144232Z
UID:11876-1772094600-1772112600@training.oxygenihair.com
SUMMARY:Head Spa Rituals oktatás
DESCRIPTION:
URL:https://training.oxygenihair.com/idopontok/head-spa-rituals-oktatas-9/
LOCATION:Oxygeni Nail Spa by Szabó Imre Budaörs\, Szabadság út 35\, Budaörs\, 2040\, Hungary
CATEGORIES:Head Spa továbbképzés
END:VEVENT
BEGIN:VEVENT
DTSTART;VALUE=DATE:20260312
DTEND;VALUE=DATE:20260313
DTSTAMP:20260423T005603
CREATED:20260121T131722Z
LAST-MODIFIED:20260121T131722Z
UID:11911-1773273600-1773359999@training.oxygenihair.com
SUMMARY:Hajgyógyászati nyílt nap
DESCRIPTION:
URL:https://training.oxygenihair.com/idopontok/hajgyogyaszati-nyilt-nap-21/
CATEGORIES:Nyílt napok
END:VEVENT
BEGIN:VEVENT
DTSTART;TZID=Europe/Budapest:20260312T083000
DTEND;TZID=Europe/Budapest:20260312T133000
DTSTAMP:20260423T005603
CREATED:20260109T144336Z
LAST-MODIFIED:20260109T144336Z
UID:11880-1773304200-1773322200@training.oxygenihair.com
SUMMARY:Nail Spa oktatás
DESCRIPTION:
URL:https://training.oxygenihair.com/idopontok/nail-spa-oktatas-2/
LOCATION:Oxygeni Nail Spa by Szabó Imre Budaörs\, Szabadság út 35\, Budaörs\, 2040\, Hungary
CATEGORIES:Nail spa oktatás
END:VEVENT
BEGIN:VEVENT
DTSTART;VALUE=DATE:20260323
DTEND;VALUE=DATE:20260331
DTSTAMP:20260423T005603
CREATED:20260123T114045Z
LAST-MODIFIED:20260123T114045Z
UID:11925-1774224000-1774915199@training.oxygenihair.com
SUMMARY:Head Spa alapvizsga
DESCRIPTION:
URL:https://training.oxygenihair.com/idopontok/head-spa-alapvizsga/
CATEGORIES:Vizsgák
END:VEVENT
BEGIN:VEVENT
DTSTART;VALUE=DATE:20260409
DTEND;VALUE=DATE:20260410
DTSTAMP:20260423T005603
CREATED:20260121T131833Z
LAST-MODIFIED:20260121T131833Z
UID:11913-1775692800-1775779199@training.oxygenihair.com
SUMMARY:Hajgyógyászati nyílt nap
DESCRIPTION:
URL:https://training.oxygenihair.com/idopontok/hajgyogyaszati-nyilt-nap-22/
CATEGORIES:Nyílt napok
END:VEVENT
BEGIN:VEVENT
DTSTART;VALUE=DATE:20260420
DTEND;VALUE=DATE:20260427
DTSTAMP:20260423T005603
CREATED:20260123T113959Z
LAST-MODIFIED:20260123T113959Z
UID:11923-1776643200-1777247999@training.oxygenihair.com
SUMMARY:Hajgyógyászati alapvizsga
DESCRIPTION:
URL:https://training.oxygenihair.com/idopontok/hajgyogyaszati-alapvizsga/
CATEGORIES:Vizsgák
END:VEVENT
BEGIN:VEVENT
DTSTART;VALUE=DATE:20260507
DTEND;VALUE=DATE:20260508
DTSTAMP:20260423T005603
CREATED:20260121T131853Z
LAST-MODIFIED:20260121T131853Z
UID:11915-1778112000-1778198399@training.oxygenihair.com
SUMMARY:Hajgyógyászati nyílt nap
DESCRIPTION:
URL:https://training.oxygenihair.com/idopontok/hajgyogyaszati-nyilt-nap-23/
CATEGORIES:Nyílt napok
END:VEVENT
END:VCALENDAR