BEGIN:VCALENDAR
VERSION:2.0
PRODID:-//Oxygeni Hair &amp; Skin oktatások - ECPv6.15.20//NONSGML v1.0//EN
CALSCALE:GREGORIAN
METHOD:PUBLISH
X-ORIGINAL-URL:https://training.oxygenihair.com
X-WR-CALDESC:Események Oxygeni Hair &amp; Skin oktatások
REFRESH-INTERVAL;VALUE=DURATION:PT1H
X-Robots-Tag:noindex
X-PUBLISHED-TTL:PT1H
BEGIN:VTIMEZONE
TZID:Europe/Budapest
BEGIN:DAYLIGHT
TZOFFSETFROM:+0100
TZOFFSETTO:+0200
TZNAME:CEST
DTSTART:20240331T010000
END:DAYLIGHT
BEGIN:STANDARD
TZOFFSETFROM:+0200
TZOFFSETTO:+0100
TZNAME:CET
DTSTART:20241027T010000
END:STANDARD
BEGIN:DAYLIGHT
TZOFFSETFROM:+0100
TZOFFSETTO:+0200
TZNAME:CEST
DTSTART:20250330T010000
END:DAYLIGHT
BEGIN:STANDARD
TZOFFSETFROM:+0200
TZOFFSETTO:+0100
TZNAME:CET
DTSTART:20251026T010000
END:STANDARD
BEGIN:DAYLIGHT
TZOFFSETFROM:+0100
TZOFFSETTO:+0200
TZNAME:CEST
DTSTART:20260329T010000
END:DAYLIGHT
BEGIN:STANDARD
TZOFFSETFROM:+0200
TZOFFSETTO:+0100
TZNAME:CET
DTSTART:20261025T010000
END:STANDARD
END:VTIMEZONE
BEGIN:VEVENT
DTSTART;VALUE=DATE:20250211
DTEND;VALUE=DATE:20250212
DTSTAMP:20260423T100636
CREATED:20241211T104318Z
LAST-MODIFIED:20241211T131009Z
UID:9409-1739232000-1739318399@training.oxygenihair.com
SUMMARY:Hajgyógyászati nyílt nap
DESCRIPTION:
URL:https://training.oxygenihair.com/idopontok/hajgyogyaszati-nyilt-nap-8/
CATEGORIES:Nyílt napok
END:VEVENT
BEGIN:VEVENT
DTSTART;VALUE=DATE:20250212
DTEND;VALUE=DATE:20250213
DTSTAMP:20260423T100636
CREATED:20241211T104403Z
LAST-MODIFIED:20241211T131023Z
UID:9411-1739318400-1739404799@training.oxygenihair.com
SUMMARY:Kozmetikai nyílt nap
DESCRIPTION:
URL:https://training.oxygenihair.com/idopontok/kozmetikai-nyilt-nap-9/
CATEGORIES:Nyílt napok
END:VEVENT
BEGIN:VEVENT
DTSTART;VALUE=DATE:20250219
DTEND;VALUE=DATE:20250220
DTSTAMP:20260423T100636
CREATED:20241211T104441Z
LAST-MODIFIED:20241211T131028Z
UID:9413-1739923200-1740009599@training.oxygenihair.com
SUMMARY:Klasszikus fejmosós head spa és Head spa rituals nyílt nap
DESCRIPTION:
URL:https://training.oxygenihair.com/idopontok/klasszikus-fejmosos-head-spa-es-head-spa-rituals-nyilt-nap/
CATEGORIES:Nyílt napok
END:VEVENT
BEGIN:VEVENT
DTSTART;VALUE=DATE:20250303
DTEND;VALUE=DATE:20250304
DTSTAMP:20260423T100636
CREATED:20250129T133804Z
LAST-MODIFIED:20250130T141209Z
UID:9476-1740960000-1741046399@training.oxygenihair.com
SUMMARY:Hajgyógyászati alap oktatás
DESCRIPTION:
URL:https://training.oxygenihair.com/idopontok/hajgyogyaszati-alap-oktatas-4/
LOCATION:Szabó Imre Hair & Beauty Budaörs\, Felsőhatár utca 1\, Budaörs\, 2040\, Hungary
CATEGORIES:Hajgyógyászati oktatás
END:VEVENT
BEGIN:VEVENT
DTSTART;VALUE=DATE:20250311
DTEND;VALUE=DATE:20250312
DTSTAMP:20260423T100636
CREATED:20241211T104548Z
LAST-MODIFIED:20241211T131033Z
UID:9415-1741651200-1741737599@training.oxygenihair.com
SUMMARY:Hajgyógyászati nyílt nap
DESCRIPTION:
URL:https://training.oxygenihair.com/idopontok/hajgyogyaszati-nyilt-nap-9/
CATEGORIES:Nyílt napok
END:VEVENT
BEGIN:VEVENT
DTSTART;VALUE=DATE:20250312
DTEND;VALUE=DATE:20250313
DTSTAMP:20260423T100636
CREATED:20241211T104652Z
LAST-MODIFIED:20241211T131038Z
UID:9417-1741737600-1741823999@training.oxygenihair.com
SUMMARY:Kozmetikai nyílt nap
DESCRIPTION:
URL:https://training.oxygenihair.com/idopontok/hajgyogyaszati-nyilt-nap-10/
CATEGORIES:Nyílt napok
END:VEVENT
BEGIN:VEVENT
DTSTART;VALUE=DATE:20250319
DTEND;VALUE=DATE:20250320
DTSTAMP:20260423T100636
CREATED:20241211T105003Z
LAST-MODIFIED:20241211T131042Z
UID:9420-1742342400-1742428799@training.oxygenihair.com
SUMMARY:Klasszikus fejmosós head spa és Head spa rituals nyílt nap
DESCRIPTION:
URL:https://training.oxygenihair.com/idopontok/klasszikus-fejmosos-head-spa-es-head-spa-rituals-nyilt-nap-2/
CATEGORIES:Nyílt napok
END:VEVENT
BEGIN:VEVENT
DTSTART;VALUE=DATE:20250324
DTEND;VALUE=DATE:20250325
DTSTAMP:20260423T100636
CREATED:20250130T104110Z
LAST-MODIFIED:20250130T104110Z
UID:9480-1742774400-1742860799@training.oxygenihair.com
SUMMARY:Head Spa Rituals oktatás
DESCRIPTION:
URL:https://training.oxygenihair.com/idopontok/head-spa-rituals-oktatas-5/
CATEGORIES:Head Spa továbbképzés
END:VEVENT
BEGIN:VEVENT
DTSTART;VALUE=DATE:20250407
DTEND;VALUE=DATE:20250408
DTSTAMP:20260423T100636
CREATED:20250210T144717Z
LAST-MODIFIED:20250210T144717Z
UID:9511-1743984000-1744070399@training.oxygenihair.com
SUMMARY:Klasszikus Fejmosós Head Spa Oktatás
DESCRIPTION:
URL:https://training.oxygenihair.com/idopontok/klasszikus-fejmosos-head-spa-oktatas-3/
END:VEVENT
BEGIN:VEVENT
DTSTART;VALUE=DATE:20250414
DTEND;VALUE=DATE:20250415
DTSTAMP:20260423T100636
CREATED:20250210T144601Z
LAST-MODIFIED:20250210T144615Z
UID:9509-1744588800-1744675199@training.oxygenihair.com
SUMMARY:Kozmetikai alap oktatás
DESCRIPTION:
URL:https://training.oxygenihair.com/idopontok/kozmetikai-alap-oktatas-4/
END:VEVENT
BEGIN:VEVENT
DTSTART;VALUE=DATE:20250415
DTEND;VALUE=DATE:20250416
DTSTAMP:20260423T100636
CREATED:20241211T105108Z
LAST-MODIFIED:20241211T131117Z
UID:9422-1744675200-1744761599@training.oxygenihair.com
SUMMARY:Hajgyógyászati nyílt nap
DESCRIPTION:
URL:https://training.oxygenihair.com/idopontok/hajgyogyaszati-nyilt-nap-11/
CATEGORIES:Nyílt napok
END:VEVENT
BEGIN:VEVENT
DTSTART;VALUE=DATE:20250416
DTEND;VALUE=DATE:20250417
DTSTAMP:20260423T100636
CREATED:20241211T105157Z
LAST-MODIFIED:20241211T131122Z
UID:9424-1744761600-1744847999@training.oxygenihair.com
SUMMARY:Kozmetikai nyílt nap
DESCRIPTION:
URL:https://training.oxygenihair.com/idopontok/kozmetikai-nyilt-nap-10/
CATEGORIES:Nyílt napok
END:VEVENT
BEGIN:VEVENT
DTSTART;VALUE=DATE:20250424
DTEND;VALUE=DATE:20250425
DTSTAMP:20260423T100636
CREATED:20241211T105244Z
LAST-MODIFIED:20250110T145108Z
UID:9426-1745452800-1745539199@training.oxygenihair.com
SUMMARY:Klasszikus fejmosós head spa és Head spa rituals nyílt nap
DESCRIPTION:
URL:https://training.oxygenihair.com/idopontok/klasszikus-fejmosos-head-spa-es-head-spa-rituals-nyilt-nap-3/
CATEGORIES:Nyílt napok
END:VEVENT
BEGIN:VEVENT
DTSTART;VALUE=DATE:20250522
DTEND;VALUE=DATE:20250523
DTSTAMP:20260423T100636
CREATED:20250415T091710Z
LAST-MODIFIED:20250422T072839Z
UID:11077-1747872000-1747958399@training.oxygenihair.com
SUMMARY:Head Spa rituals oktatás
DESCRIPTION:
URL:https://training.oxygenihair.com/idopontok/head-spa-rituals-oktatas-6/
END:VEVENT
BEGIN:VEVENT
DTSTART;VALUE=DATE:20250505
DTEND;VALUE=DATE:20250506
DTSTAMP:20260423T100636
CREATED:20250415T091625Z
LAST-MODIFIED:20250415T091625Z
UID:11075-1746403200-1746489599@training.oxygenihair.com
SUMMARY:Natulique oktatás
DESCRIPTION:
URL:https://training.oxygenihair.com/idopontok/natulique-oktatas/
END:VEVENT
BEGIN:VEVENT
DTSTART;VALUE=DATE:20250513
DTEND;VALUE=DATE:20250514
DTSTAMP:20260423T100636
CREATED:20241211T105442Z
LAST-MODIFIED:20241211T131132Z
UID:9428-1747094400-1747180799@training.oxygenihair.com
SUMMARY:Hajgyógyászati nyílt nap
DESCRIPTION:
URL:https://training.oxygenihair.com/idopontok/hajgyogyaszati-nyilt-nap-12/
CATEGORIES:Nyílt napok
END:VEVENT
BEGIN:VEVENT
DTSTART;VALUE=DATE:20250514
DTEND;VALUE=DATE:20250515
DTSTAMP:20260423T100636
CREATED:20241211T110057Z
LAST-MODIFIED:20241211T131136Z
UID:9430-1747180800-1747267199@training.oxygenihair.com
SUMMARY:Kozmetikai nyílt nap
DESCRIPTION:
URL:https://training.oxygenihair.com/idopontok/kozmetikai-nyilt-nap-11/
CATEGORIES:Nyílt napok
END:VEVENT
BEGIN:VEVENT
DTSTART;VALUE=DATE:20250519
DTEND;VALUE=DATE:20250520
DTSTAMP:20260423T100636
CREATED:20250210T144945Z
LAST-MODIFIED:20250415T091230Z
UID:9517-1747612800-1747699199@training.oxygenihair.com
SUMMARY:Hajgyógyászati oktatás
DESCRIPTION:
URL:https://training.oxygenihair.com/idopontok/klasszikus-fejmosos-head-spa-oktatas-4/
END:VEVENT
BEGIN:VEVENT
DTSTART;VALUE=DATE:20250521
DTEND;VALUE=DATE:20250522
DTSTAMP:20260423T100636
CREATED:20241211T110139Z
LAST-MODIFIED:20241211T131139Z
UID:9432-1747785600-1747871999@training.oxygenihair.com
SUMMARY:Klasszikus fejmosós head spa és Head spa rituals nyílt nap
DESCRIPTION:
URL:https://training.oxygenihair.com/idopontok/klasszikus-fejmosos-head-spa-es-head-spa-rituals-nyilt-nap-4/
CATEGORIES:Nyílt napok
END:VEVENT
BEGIN:VEVENT
DTSTART;VALUE=DATE:20250610
DTEND;VALUE=DATE:20250611
DTSTAMP:20260423T100636
CREATED:20241211T110316Z
LAST-MODIFIED:20241211T131143Z
UID:9434-1749513600-1749599999@training.oxygenihair.com
SUMMARY:Hajgyógyászati nyílt nap
DESCRIPTION:
URL:https://training.oxygenihair.com/idopontok/hajgyogyaszati-nyilt-nap-13/
CATEGORIES:Nyílt napok
END:VEVENT
BEGIN:VEVENT
DTSTART;VALUE=DATE:20250611
DTEND;VALUE=DATE:20250612
DTSTAMP:20260423T100636
CREATED:20241211T110453Z
LAST-MODIFIED:20241211T131147Z
UID:9436-1749600000-1749686399@training.oxygenihair.com
SUMMARY:Kozmetikai nyílt nap
DESCRIPTION:
URL:https://training.oxygenihair.com/idopontok/kozmetikai-nyilt-nap-12/
CATEGORIES:Nyílt napok
END:VEVENT
BEGIN:VEVENT
DTSTART;VALUE=DATE:20250618
DTEND;VALUE=DATE:20250619
DTSTAMP:20260423T100636
CREATED:20241211T110542Z
LAST-MODIFIED:20241211T131150Z
UID:9438-1750204800-1750291199@training.oxygenihair.com
SUMMARY:Klasszikus fejmosós head spa és Head spa rituals nyílt nap
DESCRIPTION:
URL:https://training.oxygenihair.com/idopontok/klasszikus-fejmosos-head-spa-es-head-spa-rituals-nyilt-nap-5/
CATEGORIES:Nyílt napok
END:VEVENT
BEGIN:VEVENT
DTSTART;TZID=Europe/Budapest:20250630T083000
DTEND;TZID=Europe/Budapest:20250630T140000
DTSTAMP:20260423T100636
CREATED:20250613T092238Z
LAST-MODIFIED:20250613T092356Z
UID:11377-1751272200-1751292000@training.oxygenihair.com
SUMMARY:Head Spa Rituals + Hair oktatás
DESCRIPTION:A nagy érdeklődésre való tekintettel örömmel jelentjük be\, hogy 2025. június 30-án összevont oktatást tartunk\, amelynek keretében a következő oktatások lesznek: Head Spa Rituals oktatás és Hajgyógyászati oktatás. Időpont: 2025. június 30. (hétfő)\, 8:30–14:00
URL:https://training.oxygenihair.com/idopontok/head-spa-rituals-hair-oktatas/
LOCATION:Szabó Imre Szalon – 2040 Budaörs\, Felsőhatár utca 1.
CATEGORIES:Head Spa továbbképzés
END:VEVENT
BEGIN:VEVENT
DTSTART;VALUE=DATE:20250715
DTEND;VALUE=DATE:20250716
DTSTAMP:20260423T100636
CREATED:20250520T074410Z
LAST-MODIFIED:20250520T074410Z
UID:11240-1752537600-1752623999@training.oxygenihair.com
SUMMARY:Hajgyógyászati nyílt nap
DESCRIPTION:
URL:https://training.oxygenihair.com/idopontok/hajgyogyaszati-nyilt-nap-14/
END:VEVENT
BEGIN:VEVENT
DTSTART;VALUE=DATE:20250716
DTEND;VALUE=DATE:20250717
DTSTAMP:20260423T100636
CREATED:20250520T074641Z
LAST-MODIFIED:20250520T074641Z
UID:11242-1752624000-1752710399@training.oxygenihair.com
SUMMARY:Kozmetikai nyílt nap
DESCRIPTION:
URL:https://training.oxygenihair.com/idopontok/kozmetikai-nyilt-nap-13/
END:VEVENT
BEGIN:VEVENT
DTSTART;TZID=Europe/Budapest:20250721T083000
DTEND;TZID=Europe/Budapest:20250721T130000
DTSTAMP:20260423T100636
CREATED:20250717T092636Z
LAST-MODIFIED:20250717T092636Z
UID:11418-1753086600-1753102800@training.oxygenihair.com
SUMMARY:Head Spa Rituals oktatás
DESCRIPTION:Időpont: 2025. július 21. (hétfő) 8:30 – 13:00\nHelyszín: 2040 Budaörs\, Felsőhatár utca 1. (Szabó Imre Hair & Beauty Budaörs)
URL:https://training.oxygenihair.com/idopontok/head-spa-rituals-oktatas-7/
LOCATION:Szabó Imre Hair & Beauty Budaörs\, Felsőhatár utca 1\, Budaörs\, 2040\, Hungary
CATEGORIES:Head Spa továbbképzés
END:VEVENT
BEGIN:VEVENT
DTSTART;VALUE=DATE:20250723
DTEND;VALUE=DATE:20250724
DTSTAMP:20260423T100636
CREATED:20250520T074733Z
LAST-MODIFIED:20250520T074733Z
UID:11245-1753228800-1753315199@training.oxygenihair.com
SUMMARY:Klasszikus fejmosós head spa és Head spa rituals nyílt nap
DESCRIPTION:
URL:https://training.oxygenihair.com/idopontok/klasszikus-fejmosos-head-spa-es-head-spa-rituals-nyilt-nap-6/
END:VEVENT
BEGIN:VEVENT
DTSTART;VALUE=DATE:20250813
DTEND;VALUE=DATE:20250814
DTSTAMP:20260423T100636
CREATED:20250520T074856Z
LAST-MODIFIED:20250520T074856Z
UID:11249-1755043200-1755129599@training.oxygenihair.com
SUMMARY:Kozmetikai nyílt nap
DESCRIPTION:
URL:https://training.oxygenihair.com/idopontok/kozmetikai-nyilt-nap-14/
END:VEVENT
BEGIN:VEVENT
DTSTART;VALUE=DATE:20250814
DTEND;VALUE=DATE:20250815
DTSTAMP:20260423T100636
CREATED:20250520T074817Z
LAST-MODIFIED:20250520T074817Z
UID:11247-1755129600-1755215999@training.oxygenihair.com
SUMMARY:Hajgyógyászati nyílt nap
DESCRIPTION:
URL:https://training.oxygenihair.com/idopontok/hajgyogyaszati-nyilt-nap-15/
END:VEVENT
BEGIN:VEVENT
DTSTART;VALUE=DATE:20250819
DTEND;VALUE=DATE:20250820
DTSTAMP:20260423T100636
CREATED:20250520T074925Z
LAST-MODIFIED:20250521T080416Z
UID:11251-1755561600-1755647999@training.oxygenihair.com
SUMMARY:Klasszikus fejmosós head spa és Head spa rituals nyílt nap
DESCRIPTION:
URL:https://training.oxygenihair.com/idopontok/klasszikus-fejmosos-head-spa-es-head-spa-rituals-nyilt-nap-7/
CATEGORIES:Nyílt napok
END:VEVENT
END:VCALENDAR