BEGIN:VCALENDAR
VERSION:2.0
PRODID:-//Oxygeni Hair &amp; Skin oktatások - ECPv6.15.20//NONSGML v1.0//EN
CALSCALE:GREGORIAN
METHOD:PUBLISH
X-ORIGINAL-URL:https://training.oxygenihair.com
X-WR-CALDESC:Események Oxygeni Hair &amp; Skin oktatások
REFRESH-INTERVAL;VALUE=DURATION:PT1H
X-Robots-Tag:noindex
X-PUBLISHED-TTL:PT1H
BEGIN:VTIMEZONE
TZID:Europe/Budapest
BEGIN:DAYLIGHT
TZOFFSETFROM:+0100
TZOFFSETTO:+0200
TZNAME:CEST
DTSTART:20250330T010000
END:DAYLIGHT
BEGIN:STANDARD
TZOFFSETFROM:+0200
TZOFFSETTO:+0100
TZNAME:CET
DTSTART:20251026T010000
END:STANDARD
BEGIN:DAYLIGHT
TZOFFSETFROM:+0100
TZOFFSETTO:+0200
TZNAME:CEST
DTSTART:20260329T010000
END:DAYLIGHT
BEGIN:STANDARD
TZOFFSETFROM:+0200
TZOFFSETTO:+0100
TZNAME:CET
DTSTART:20261025T010000
END:STANDARD
BEGIN:DAYLIGHT
TZOFFSETFROM:+0100
TZOFFSETTO:+0200
TZNAME:CEST
DTSTART:20270328T010000
END:DAYLIGHT
BEGIN:STANDARD
TZOFFSETFROM:+0200
TZOFFSETTO:+0100
TZNAME:CET
DTSTART:20271031T010000
END:STANDARD
END:VTIMEZONE
BEGIN:VEVENT
DTSTART;TZID=Europe/Budapest:20260302T083000
DTEND;TZID=Europe/Budapest:20260302T133000
DTSTAMP:20260422T121652
CREATED:20260109T144103Z
LAST-MODIFIED:20260121T130706Z
UID:11873-1772440200-1772458200@training.oxygenihair.com
SUMMARY:Hajgyógyászati oktatás
DESCRIPTION:
URL:https://training.oxygenihair.com/idopontok/hajgyogyaszati-oktatas/
LOCATION:Oxygeni Nail Spa by Szabó Imre Budaörs\, Szabadság út 35\, Budaörs\, 2040\, Hungary
CATEGORIES:Hajgyógyászati oktatás
END:VEVENT
END:VCALENDAR