BEGIN:VCALENDAR
VERSION:2.0
PRODID:-//Oxygeni Hair &amp; Skin oktatások - ECPv6.15.20//NONSGML v1.0//EN
CALSCALE:GREGORIAN
METHOD:PUBLISH
X-ORIGINAL-URL:https://training.oxygenihair.com
X-WR-CALDESC:Események Oxygeni Hair &amp; Skin oktatások
REFRESH-INTERVAL;VALUE=DURATION:PT1H
X-Robots-Tag:noindex
X-PUBLISHED-TTL:PT1H
BEGIN:VTIMEZONE
TZID:Europe/Budapest
BEGIN:DAYLIGHT
TZOFFSETFROM:+0100
TZOFFSETTO:+0200
TZNAME:CEST
DTSTART:20240331T010000
END:DAYLIGHT
BEGIN:STANDARD
TZOFFSETFROM:+0200
TZOFFSETTO:+0100
TZNAME:CET
DTSTART:20241027T010000
END:STANDARD
BEGIN:DAYLIGHT
TZOFFSETFROM:+0100
TZOFFSETTO:+0200
TZNAME:CEST
DTSTART:20250330T010000
END:DAYLIGHT
BEGIN:STANDARD
TZOFFSETFROM:+0200
TZOFFSETTO:+0100
TZNAME:CET
DTSTART:20251026T010000
END:STANDARD
BEGIN:DAYLIGHT
TZOFFSETFROM:+0100
TZOFFSETTO:+0200
TZNAME:CEST
DTSTART:20260329T010000
END:DAYLIGHT
BEGIN:STANDARD
TZOFFSETFROM:+0200
TZOFFSETTO:+0100
TZNAME:CET
DTSTART:20261025T010000
END:STANDARD
END:VTIMEZONE
BEGIN:VEVENT
DTSTART;VALUE=DATE:20251211
DTEND;VALUE=DATE:20251212
DTSTAMP:20260422T133526
CREATED:20250520T075633Z
LAST-MODIFIED:20250521T075017Z
UID:11272-1765411200-1765497599@training.oxygenihair.com
SUMMARY:Hajgyógyászati nyílt nap
DESCRIPTION:
URL:https://training.oxygenihair.com/idopontok/hajgyogyaszati-nyilt-nap-19/
CATEGORIES:Nyílt napok
END:VEVENT
BEGIN:VEVENT
DTSTART;VALUE=DATE:20251217
DTEND;VALUE=DATE:20251218
DTSTAMP:20260422T133526
CREATED:20250520T075713Z
LAST-MODIFIED:20250521T074941Z
UID:11274-1765929600-1766015999@training.oxygenihair.com
SUMMARY:Kozmetikai nyílt nap
DESCRIPTION:
URL:https://training.oxygenihair.com/idopontok/kozmetikai-nyilt-nap-18/
CATEGORIES:Nyílt napok
END:VEVENT
BEGIN:VEVENT
DTSTART;VALUE=DATE:20251218
DTEND;VALUE=DATE:20251219
DTSTAMP:20260422T133526
CREATED:20250520T075821Z
LAST-MODIFIED:20250521T074913Z
UID:11276-1766016000-1766102399@training.oxygenihair.com
SUMMARY:Klasszikus fejmosós head spa és Head spa rituals nyílt nap
DESCRIPTION:
URL:https://training.oxygenihair.com/idopontok/klasszikus-fejmosos-head-spa-es-head-spa-rituals-nyilt-nap-11/
CATEGORIES:Nyílt napok
END:VEVENT
END:VCALENDAR