BEGIN:VCALENDAR
VERSION:2.0
PRODID:-//Oxygeni Hair &amp; Skin oktatások - ECPv6.15.20//NONSGML v1.0//EN
CALSCALE:GREGORIAN
METHOD:PUBLISH
X-ORIGINAL-URL:https://training.oxygenihair.com
X-WR-CALDESC:Események Oxygeni Hair &amp; Skin oktatások
REFRESH-INTERVAL;VALUE=DURATION:PT1H
X-Robots-Tag:noindex
X-PUBLISHED-TTL:PT1H
BEGIN:VTIMEZONE
TZID:Europe/Budapest
BEGIN:DAYLIGHT
TZOFFSETFROM:+0100
TZOFFSETTO:+0200
TZNAME:CEST
DTSTART:20240331T010000
END:DAYLIGHT
BEGIN:STANDARD
TZOFFSETFROM:+0200
TZOFFSETTO:+0100
TZNAME:CET
DTSTART:20241027T010000
END:STANDARD
BEGIN:DAYLIGHT
TZOFFSETFROM:+0100
TZOFFSETTO:+0200
TZNAME:CEST
DTSTART:20250330T010000
END:DAYLIGHT
BEGIN:STANDARD
TZOFFSETFROM:+0200
TZOFFSETTO:+0100
TZNAME:CET
DTSTART:20251026T010000
END:STANDARD
BEGIN:DAYLIGHT
TZOFFSETFROM:+0100
TZOFFSETTO:+0200
TZNAME:CEST
DTSTART:20260329T010000
END:DAYLIGHT
BEGIN:STANDARD
TZOFFSETFROM:+0200
TZOFFSETTO:+0100
TZNAME:CET
DTSTART:20261025T010000
END:STANDARD
END:VTIMEZONE
BEGIN:VEVENT
DTSTART;VALUE=DATE:20250610
DTEND;VALUE=DATE:20250611
DTSTAMP:20260422T211404
CREATED:20241211T110316Z
LAST-MODIFIED:20241211T131143Z
UID:9434-1749513600-1749599999@training.oxygenihair.com
SUMMARY:Hajgyógyászati nyílt nap
DESCRIPTION:
URL:https://training.oxygenihair.com/idopontok/hajgyogyaszati-nyilt-nap-13/
CATEGORIES:Nyílt napok
END:VEVENT
BEGIN:VEVENT
DTSTART;VALUE=DATE:20250611
DTEND;VALUE=DATE:20250612
DTSTAMP:20260422T211404
CREATED:20241211T110453Z
LAST-MODIFIED:20241211T131147Z
UID:9436-1749600000-1749686399@training.oxygenihair.com
SUMMARY:Kozmetikai nyílt nap
DESCRIPTION:
URL:https://training.oxygenihair.com/idopontok/kozmetikai-nyilt-nap-12/
CATEGORIES:Nyílt napok
END:VEVENT
BEGIN:VEVENT
DTSTART;VALUE=DATE:20250618
DTEND;VALUE=DATE:20250619
DTSTAMP:20260422T211404
CREATED:20241211T110542Z
LAST-MODIFIED:20241211T131150Z
UID:9438-1750204800-1750291199@training.oxygenihair.com
SUMMARY:Klasszikus fejmosós head spa és Head spa rituals nyílt nap
DESCRIPTION:
URL:https://training.oxygenihair.com/idopontok/klasszikus-fejmosos-head-spa-es-head-spa-rituals-nyilt-nap-5/
CATEGORIES:Nyílt napok
END:VEVENT
BEGIN:VEVENT
DTSTART;TZID=Europe/Budapest:20250630T083000
DTEND;TZID=Europe/Budapest:20250630T140000
DTSTAMP:20260422T211404
CREATED:20250613T092238Z
LAST-MODIFIED:20250613T092356Z
UID:11377-1751272200-1751292000@training.oxygenihair.com
SUMMARY:Head Spa Rituals + Hair oktatás
DESCRIPTION:A nagy érdeklődésre való tekintettel örömmel jelentjük be\, hogy 2025. június 30-án összevont oktatást tartunk\, amelynek keretében a következő oktatások lesznek: Head Spa Rituals oktatás és Hajgyógyászati oktatás. Időpont: 2025. június 30. (hétfő)\, 8:30–14:00
URL:https://training.oxygenihair.com/idopontok/head-spa-rituals-hair-oktatas/
LOCATION:Szabó Imre Szalon – 2040 Budaörs\, Felsőhatár utca 1.
CATEGORIES:Head Spa továbbképzés
END:VEVENT
END:VCALENDAR