BEGIN:VCALENDAR
VERSION:2.0
PRODID:-//Oxygeni Hair &amp; Skin oktatások - ECPv6.15.20//NONSGML v1.0//EN
CALSCALE:GREGORIAN
METHOD:PUBLISH
X-WR-CALNAME:Oxygeni Hair &amp; Skin oktatások
X-ORIGINAL-URL:https://training.oxygenihair.com
X-WR-CALDESC:Események Oxygeni Hair &amp; Skin oktatások
REFRESH-INTERVAL;VALUE=DURATION:PT1H
X-Robots-Tag:noindex
X-PUBLISHED-TTL:PT1H
BEGIN:VTIMEZONE
TZID:Europe/Budapest
BEGIN:DAYLIGHT
TZOFFSETFROM:+0100
TZOFFSETTO:+0200
TZNAME:CEST
DTSTART:20230326T010000
END:DAYLIGHT
BEGIN:STANDARD
TZOFFSETFROM:+0200
TZOFFSETTO:+0100
TZNAME:CET
DTSTART:20231029T010000
END:STANDARD
BEGIN:DAYLIGHT
TZOFFSETFROM:+0100
TZOFFSETTO:+0200
TZNAME:CEST
DTSTART:20240331T010000
END:DAYLIGHT
BEGIN:STANDARD
TZOFFSETFROM:+0200
TZOFFSETTO:+0100
TZNAME:CET
DTSTART:20241027T010000
END:STANDARD
BEGIN:DAYLIGHT
TZOFFSETFROM:+0100
TZOFFSETTO:+0200
TZNAME:CEST
DTSTART:20250330T010000
END:DAYLIGHT
BEGIN:STANDARD
TZOFFSETFROM:+0200
TZOFFSETTO:+0100
TZNAME:CET
DTSTART:20251026T010000
END:STANDARD
BEGIN:DAYLIGHT
TZOFFSETFROM:+0100
TZOFFSETTO:+0200
TZNAME:CEST
DTSTART:20260329T010000
END:DAYLIGHT
BEGIN:STANDARD
TZOFFSETFROM:+0200
TZOFFSETTO:+0100
TZNAME:CET
DTSTART:20261025T010000
END:STANDARD
END:VTIMEZONE
BEGIN:VEVENT
DTSTART;TZID=Europe/Budapest:20250505T083000
DTEND;TZID=Europe/Budapest:20250505T130000
DTSTAMP:20260423T065100
CREATED:20240617T100037Z
LAST-MODIFIED:20250415T091316Z
UID:8001-1746433800-1746450000@training.oxygenihair.com
SUMMARY:Natulique oktatás
DESCRIPTION:
URL:https://training.oxygenihair.com/idopontok/hajgyogyaszati-alap-oktatas-2/
CATEGORIES:Hajgyógyászati oktatás
END:VEVENT
BEGIN:VEVENT
DTSTART;TZID=Europe/Budapest:20241104T133000
DTEND;TZID=Europe/Budapest:20241104T170000
DTSTAMP:20260423T065100
CREATED:20240919T100932Z
LAST-MODIFIED:20241001T124027Z
UID:8821-1730727000-1730739600@training.oxygenihair.com
SUMMARY:Kozmetikai alap oktatás
DESCRIPTION:
URL:https://training.oxygenihair.com/idopontok/kozmetikai-alap-oktatas-2/
CATEGORIES:Kozmetika oktatás
END:VEVENT
BEGIN:VEVENT
DTSTART;VALUE=DATE:20241112
DTEND;VALUE=DATE:20241113
DTSTAMP:20260423T065100
CREATED:20240617T085117Z
LAST-MODIFIED:20240617T085654Z
UID:7967-1731369600-1731455999@training.oxygenihair.com
SUMMARY:Hajgyógyászati nyílt nap
DESCRIPTION:
URL:https://training.oxygenihair.com/idopontok/hajgyogyaszati-nyilt-nap-5/
CATEGORIES:Nyílt napok
END:VEVENT
BEGIN:VEVENT
DTSTART;VALUE=DATE:20241113
DTEND;VALUE=DATE:20241114
DTSTAMP:20260423T065100
CREATED:20240617T085200Z
LAST-MODIFIED:20240617T085641Z
UID:7969-1731456000-1731542399@training.oxygenihair.com
SUMMARY:Kozmetikai nyílt nap
DESCRIPTION:
URL:https://training.oxygenihair.com/idopontok/kozmetikai-nyilt-nap-5/
CATEGORIES:Nyílt napok
END:VEVENT
BEGIN:VEVENT
DTSTART;VALUE=DATE:20250522
DTEND;VALUE=DATE:20250523
DTSTAMP:20260423T065100
CREATED:20241015T114910Z
LAST-MODIFIED:20250422T072737Z
UID:9032-1747872000-1747958399@training.oxygenihair.com
SUMMARY:Head Spa Rituals oktatás
DESCRIPTION:
URL:https://training.oxygenihair.com/idopontok/head-spa-rituals-oktatas-2/
CATEGORIES:Head Spa továbbképzés
END:VEVENT
BEGIN:VEVENT
DTSTART;TZID=Europe/Budapest:20241125T140000
DTEND;TZID=Europe/Budapest:20241125T170000
DTSTAMP:20260423T065100
CREATED:20240919T101123Z
LAST-MODIFIED:20241001T123949Z
UID:8823-1732543200-1732554000@training.oxygenihair.com
SUMMARY:Head Spa Rituals oktatás
DESCRIPTION:
URL:https://training.oxygenihair.com/idopontok/head-spa-rituals-oktatas/
LOCATION:Budaörs Szabó Imre szalon
CATEGORIES:Head Spa továbbképzés
END:VEVENT
END:VCALENDAR